BEGIN:VCALENDAR
PRODID:-//www.undertheradar.co.nz//NONSGML Undertheradar//EN
VERSION:2.0
BEGIN:VEVENT
DESCRIPTION:Teddy Killerz, Jade - Neck of the Woods, Auckland
UID:1190175379-70298@undertheradar.co.nz
DTSTAMP:20200228T220000Z
DTSTART:20200228T220000
DTEND:20200228T220059
SUMMARY:Teddy Killerz, Jade
LOCATION:Neck of the Woods, Auckland
URL:http://www.undertheradar.co.nz/gig/70298/gig.utr
END:VEVENT
END:VCALENDAR

