BEGIN:VCALENDAR
PRODID:-//www.undertheradar.co.nz//NONSGML Undertheradar//EN
VERSION:2.0
BEGIN:VEVENT
DESCRIPTION:The Pipi Pickers - The Bunker, Auckland
UID:1190175379-70330@undertheradar.co.nz
DTSTAMP:20200311T174500Z
DTSTART:20200311T174500
DTEND:20200311T174559
SUMMARY:The Pipi Pickers
LOCATION:The Bunker, Auckland
URL:http://www.undertheradar.co.nz/gig/70330/gig.utr
END:VEVENT
END:VCALENDAR

