BEGIN:VCALENDAR
PRODID:-//www.undertheradar.co.nz//NONSGML Undertheradar//EN
VERSION:2.0
BEGIN:VEVENT
DESCRIPTION:What So Not - The Studio, Auckland
UID:1190175379-70408@undertheradar.co.nz
DTSTAMP:20200312T220000Z
DTSTART:20200312T220000
DTEND:20200312T220059
SUMMARY:What So Not
LOCATION:The Studio, Auckland
URL:http://www.undertheradar.co.nz/gig/70408/gig.utr
END:VEVENT
END:VCALENDAR

