BEGIN:VCALENDAR
PRODID:-//www.undertheradar.co.nz//NONSGML Undertheradar//EN
VERSION:2.0
BEGIN:VEVENT
DESCRIPTION:Automatic80s - The Powerstation, Auckland
UID:1190175379-70531@undertheradar.co.nz
DTSTAMP:20201017T200000Z
DTSTART:20201017T200000
DTEND:20201017T200059
SUMMARY:Automatic80s
LOCATION:The Powerstation, Auckland
URL:http://www.undertheradar.co.nz/gig/70531/gig.utr
END:VEVENT
END:VCALENDAR

