BEGIN:VCALENDAR
PRODID:-//www.undertheradar.co.nz//NONSGML Undertheradar//EN
VERSION:2.0
BEGIN:VEVENT
DESCRIPTION:Grace Kelly - Cancelled - Leigh Sawmill Cafe, Leigh
UID:1190175379-70699@undertheradar.co.nz
DTSTAMP:20200329T170000Z
DTSTART:20200329T170000
DTEND:20200329T170059
SUMMARY:Grace Kelly - Cancelled
LOCATION:Leigh Sawmill Cafe, Leigh
URL:http://www.undertheradar.co.nz/gig/70699/gig.utr
END:VEVENT
END:VCALENDAR

