BEGIN:VCALENDAR
PRODID:-//www.undertheradar.co.nz//NONSGML Undertheradar//EN
VERSION:2.0
BEGIN:VEVENT
DESCRIPTION:Nathan Haines w/ Jonathan Crayford, Manjit Singh - Ponsonby Social Club, Auckland
UID:1190175379-70989@undertheradar.co.nz
DTSTAMP:20200613T190000Z
DTSTART:20200613T190000
DTEND:20200613T190059
SUMMARY:Nathan Haines w/ Jonathan Crayford, Manjit Singh
LOCATION:Ponsonby Social Club, Auckland
URL:http://www.undertheradar.co.nz/gig/70989/gig.utr
END:VEVENT
END:VCALENDAR

