BEGIN:VCALENDAR
PRODID:-//www.undertheradar.co.nz//NONSGML Undertheradar//EN
VERSION:2.0
BEGIN:VEVENT
DESCRIPTION:Tom Cunliffe And Louisa Nicklin - 7pm - The Wine Cellar, Auckland
UID:1190175379-71031@undertheradar.co.nz
DTSTAMP:20200611T190000Z
DTSTART:20200611T190000
DTEND:20200611T190059
SUMMARY:Tom Cunliffe And Louisa Nicklin - 7pm
LOCATION:The Wine Cellar, Auckland
URL:http://www.undertheradar.co.nz/gig/71031/gig.utr
END:VEVENT
END:VCALENDAR

