BEGIN:VCALENDAR
PRODID:-//www.undertheradar.co.nz//NONSGML Undertheradar//EN
VERSION:2.0
BEGIN:VEVENT
DESCRIPTION:Down by the river - an evening of Neil Young songs - St Marys Church - Addington, Christchurch
UID:1190175379-71119@undertheradar.co.nz
DTSTAMP:20200717T190000Z
DTSTART:20200717T190000
DTEND:20200717T190059
SUMMARY:Down by the river - an evening of Neil Young songs
LOCATION:St Marys Church - Addington, Christchurch
URL:http://www.undertheradar.co.nz/gig/71119/gig.utr
END:VEVENT
END:VCALENDAR

