BEGIN:VCALENDAR
PRODID:-//www.undertheradar.co.nz//NONSGML Undertheradar//EN
VERSION:2.0
BEGIN:VEVENT
DESCRIPTION:Miss Used - Jam Cellar - Corban Estate Arts Centre, Auckland
UID:1190175379-71143@undertheradar.co.nz
DTSTAMP:20200626T183000Z
DTSTART:20200626T183000
DTEND:20200626T183059
SUMMARY:Miss Used - Jam Cellar
LOCATION:Corban Estate Arts Centre, Auckland
URL:http://www.undertheradar.co.nz/gig/71143/gig.utr
END:VEVENT
END:VCALENDAR

