BEGIN:VCALENDAR
PRODID:-//www.undertheradar.co.nz//NONSGML Undertheradar//EN
VERSION:2.0
BEGIN:VEVENT
DESCRIPTION:Motoko Kikkawa w/ Psychedelic Collaborators - Audio Foundation, Auckland
UID:1190175379-71390@undertheradar.co.nz
DTSTAMP:20200710T190000Z
DTSTART:20200710T190000
DTEND:20200710T190059
SUMMARY:Motoko Kikkawa w/ Psychedelic Collaborators
LOCATION:Audio Foundation, Auckland
URL:http://www.undertheradar.co.nz/gig/71390/gig.utr
END:VEVENT
END:VCALENDAR

