BEGIN:VCALENDAR
PRODID:-//www.undertheradar.co.nz//NONSGML Undertheradar//EN
VERSION:2.0
BEGIN:VEVENT
DESCRIPTION:Investigator w/ Hanna Ashcroft and Tito Tafa - Cupid Bar, Auckland
UID:1190175379-71495@undertheradar.co.nz
DTSTAMP:20200711T190000Z
DTSTART:20200711T190000
DTEND:20200711T190059
SUMMARY:Investigator w/ Hanna Ashcroft and Tito Tafa
LOCATION:Cupid Bar, Auckland
URL:http://www.undertheradar.co.nz/gig/71495/gig.utr
END:VEVENT
END:VCALENDAR

