BEGIN:VCALENDAR
PRODID:-//www.undertheradar.co.nz//NONSGML Undertheradar//EN
VERSION:2.0
BEGIN:VEVENT
DESCRIPTION:The Cthulus and Tooms - Cupid Bar, Auckland
UID:1190175379-71496@undertheradar.co.nz
DTSTAMP:20200725T200000Z
DTSTART:20200725T200000
DTEND:20200725T200059
SUMMARY:The Cthulus and Tooms
LOCATION:Cupid Bar, Auckland
URL:http://www.undertheradar.co.nz/gig/71496/gig.utr
END:VEVENT
END:VCALENDAR

