BEGIN:VCALENDAR
PRODID:-//www.undertheradar.co.nz//NONSGML Undertheradar//EN
VERSION:2.0
BEGIN:VEVENT
DESCRIPTION:An Evening w/ Heavy Chest (solo) - The Wine Cellar, Auckland
UID:1190175379-71547@undertheradar.co.nz
DTSTAMP:20200805T200000Z
DTSTART:20200805T200000
DTEND:20200805T200059
SUMMARY:An Evening w/ Heavy Chest (solo)
LOCATION:The Wine Cellar, Auckland
URL:http://www.undertheradar.co.nz/gig/71547/gig.utr
END:VEVENT
END:VCALENDAR

