BEGIN:VCALENDAR
PRODID:-//www.undertheradar.co.nz//NONSGML Undertheradar//EN
VERSION:2.0
BEGIN:VEVENT
DESCRIPTION:The Others Way 2020 - Cancelled - Various K Road Venues , Auckland
UID:1190175379-71556@undertheradar.co.nz
DTSTAMP:20200911T190000Z
DTSTART:20200911T190000
DTEND:20200911T190059
SUMMARY:The Others Way 2020 - Cancelled
LOCATION:Various K Road Venues , Auckland
URL:http://www.undertheradar.co.nz/gig/71556/gig.utr
END:VEVENT
END:VCALENDAR

