BEGIN:VCALENDAR
PRODID:-//www.undertheradar.co.nz//NONSGML Undertheradar//EN
VERSION:2.0
BEGIN:VEVENT
DESCRIPTION:Pachucos Collective Live - Postponed - Ponsonby Social Club, Auckland
UID:1190175379-71570@undertheradar.co.nz
DTSTAMP:20200814T190000Z
DTSTART:20200814T190000
DTEND:20200814T190059
SUMMARY:Pachucos Collective Live - Postponed
LOCATION:Ponsonby Social Club, Auckland
URL:http://www.undertheradar.co.nz/gig/71570/gig.utr
END:VEVENT
END:VCALENDAR

