BEGIN:VCALENDAR
PRODID:-//www.undertheradar.co.nz//NONSGML Undertheradar//EN
VERSION:2.0
BEGIN:VEVENT
DESCRIPTION:Alda Rezende Live In Auckland (Second Show) - Ponsonby Social Club, Auckland
UID:1190175379-71587@undertheradar.co.nz
DTSTAMP:20200801T190000Z
DTSTART:20200801T190000
DTEND:20200801T190059
SUMMARY:Alda Rezende Live In Auckland (Second Show)
LOCATION:Ponsonby Social Club, Auckland
URL:http://www.undertheradar.co.nz/gig/71587/gig.utr
END:VEVENT
END:VCALENDAR

