BEGIN:VCALENDAR
PRODID:-//www.undertheradar.co.nz//NONSGML Undertheradar//EN
VERSION:2.0
BEGIN:VEVENT
DESCRIPTION:Ge Luz Live - Ponsonby Social Club, Auckland
UID:1190175379-71608@undertheradar.co.nz
DTSTAMP:20200912T190000Z
DTSTART:20200912T190000
DTEND:20200912T190059
SUMMARY:Ge Luz Live
LOCATION:Ponsonby Social Club, Auckland
URL:http://www.undertheradar.co.nz/gig/71608/gig.utr
END:VEVENT
END:VCALENDAR

