BEGIN:VCALENDAR
PRODID:-//www.undertheradar.co.nz//NONSGML Undertheradar//EN
VERSION:2.0
BEGIN:VEVENT
DESCRIPTION:Reid _ Ruins - The Tuning Fork, Auckland
UID:1190175379-71613@undertheradar.co.nz
DTSTAMP:20201010T200000Z
DTSTART:20201010T200000
DTEND:20201010T200059
SUMMARY:Reid _ Ruins
LOCATION:The Tuning Fork, Auckland
URL:http://www.undertheradar.co.nz/gig/71613/gig.utr
END:VEVENT
END:VCALENDAR

