BEGIN:VCALENDAR
PRODID:-//www.undertheradar.co.nz//NONSGML Undertheradar//EN
VERSION:2.0
BEGIN:VEVENT
DESCRIPTION:Fortress Europe - Freida Margolis, Auckland
UID:1190175379-71628@undertheradar.co.nz
DTSTAMP:20200801T073000Z
DTSTART:20200801T073000
DTEND:20200801T073059
SUMMARY:Fortress Europe
LOCATION:Freida Margolis, Auckland
URL:http://www.undertheradar.co.nz/gig/71628/gig.utr
END:VEVENT
END:VCALENDAR

