BEGIN:VCALENDAR
PRODID:-//www.undertheradar.co.nz//NONSGML Undertheradar//EN
VERSION:2.0
BEGIN:VEVENT
DESCRIPTION:Torana and Durty Murdur - Cupid Bar, Auckland
UID:1190175379-71651@undertheradar.co.nz
DTSTAMP:20200815T200000Z
DTSTART:20200815T200000
DTEND:20200815T200059
SUMMARY:Torana and Durty Murdur
LOCATION:Cupid Bar, Auckland
URL:http://www.undertheradar.co.nz/gig/71651/gig.utr
END:VEVENT
END:VCALENDAR

