BEGIN:VCALENDAR
PRODID:-//www.undertheradar.co.nz//NONSGML Undertheradar//EN
VERSION:2.0
BEGIN:VEVENT
DESCRIPTION:Reid _ Ruins - St Peter's Hall, Paekakariki
UID:1190175379-71673@undertheradar.co.nz
DTSTAMP:20200925T200000Z
DTSTART:20200925T200000
DTEND:20200925T200059
SUMMARY:Reid _ Ruins
LOCATION:St Peter's Hall, Paekakariki
URL:http://www.undertheradar.co.nz/gig/71673/gig.utr
END:VEVENT
END:VCALENDAR

