BEGIN:VCALENDAR
PRODID:-//www.undertheradar.co.nz//NONSGML Undertheradar//EN
VERSION:2.0
BEGIN:VEVENT
DESCRIPTION:Dolphin Friendly 'Unity' Tour | Auckland - The Tuning Fork, Auckland
UID:1190175379-71815@undertheradar.co.nz
DTSTAMP:20200904T193000Z
DTSTART:20200904T193000
DTEND:20200904T193059
SUMMARY:Dolphin Friendly 'Unity' Tour | Auckland
LOCATION:The Tuning Fork, Auckland
URL:http://www.undertheradar.co.nz/gig/71815/gig.utr
END:VEVENT
END:VCALENDAR

