BEGIN:VCALENDAR
PRODID:-//www.undertheradar.co.nz//NONSGML Undertheradar//EN
VERSION:2.0
BEGIN:VEVENT
DESCRIPTION:Arjuna Oakes 'Cautionary Tale' Single Release - San Fran, Wellington
UID:1190175379-71861@undertheradar.co.nz
DTSTAMP:20200911T200000Z
DTSTART:20200911T200000
DTEND:20200911T200059
SUMMARY:Arjuna Oakes 'Cautionary Tale' Single Release
LOCATION:San Fran, Wellington
URL:http://www.undertheradar.co.nz/gig/71861/gig.utr
END:VEVENT
END:VCALENDAR

