BEGIN:VCALENDAR
PRODID:-//www.undertheradar.co.nz//NONSGML Undertheradar//EN
VERSION:2.0
BEGIN:VEVENT
DESCRIPTION:Paris Is Burning X Radio Schmadio - Ante Social, Auckland
UID:1190175379-72090@undertheradar.co.nz
DTSTAMP:20201030T220000Z
DTSTART:20201030T220000
DTEND:20201030T220059
SUMMARY:Paris Is Burning X Radio Schmadio
LOCATION:Ante Social, Auckland
URL:http://www.undertheradar.co.nz/gig/72090/gig.utr
END:VEVENT
END:VCALENDAR

