BEGIN:VCALENDAR
PRODID:-//www.undertheradar.co.nz//NONSGML Undertheradar//EN
VERSION:2.0
BEGIN:VEVENT
DESCRIPTION:Cantaloop! feat. Julien Dyne _ Matt Pony - Fitzroy Lounge Bar, Auckland
UID:1190175379-72240@undertheradar.co.nz
DTSTAMP:20201002T200000Z
DTSTART:20201002T200000
DTEND:20201002T200059
SUMMARY:Cantaloop! feat. Julien Dyne _ Matt Pony
LOCATION:Fitzroy Lounge Bar, Auckland
URL:http://www.undertheradar.co.nz/gig/72240/gig.utr
END:VEVENT
END:VCALENDAR

