BEGIN:VCALENDAR
PRODID:-//www.undertheradar.co.nz//NONSGML Undertheradar//EN
VERSION:2.0
BEGIN:VEVENT
DESCRIPTION:Burn The Bridges Home Ep Release - Anthology Lounge, Auckland
UID:1190175379-72304@undertheradar.co.nz
DTSTAMP:20201002T200000Z
DTSTART:20201002T200000
DTEND:20201002T200059
SUMMARY:Burn The Bridges Home Ep Release
LOCATION:Anthology Lounge, Auckland
URL:http://www.undertheradar.co.nz/gig/72304/gig.utr
END:VEVENT
END:VCALENDAR

