BEGIN:VCALENDAR
PRODID:-//www.undertheradar.co.nz//NONSGML Undertheradar//EN
VERSION:2.0
BEGIN:VEVENT
DESCRIPTION:L.A.B. - Mt Smart Stadium, Auckland
UID:1190175379-72340@undertheradar.co.nz
DTSTAMP:20210327T160000Z
DTSTART:20210327T160000
DTEND:20210327T160059
SUMMARY:L.A.B.
LOCATION:Mt Smart Stadium, Auckland
URL:http://www.undertheradar.co.nz/gig/72340/gig.utr
END:VEVENT
END:VCALENDAR

