BEGIN:VCALENDAR
PRODID:-//www.undertheradar.co.nz//NONSGML Undertheradar//EN
VERSION:2.0
BEGIN:VEVENT
DESCRIPTION:Reid _ Ruins - Artworks Theatre, Waiheke Island
UID:1190175379-72397@undertheradar.co.nz
DTSTAMP:20201003T160000Z
DTSTART:20201003T160000
DTEND:20201003T160059
SUMMARY:Reid _ Ruins
LOCATION:Artworks Theatre, Waiheke Island
URL:http://www.undertheradar.co.nz/gig/72397/gig.utr
END:VEVENT
END:VCALENDAR

