BEGIN:VCALENDAR
PRODID:-//www.undertheradar.co.nz//NONSGML Undertheradar//EN
VERSION:2.0
BEGIN:VEVENT
DESCRIPTION:Delaney Davidson Live - Ponsonby Social Club, Auckland
UID:1190175379-72687@undertheradar.co.nz
DTSTAMP:20201124T180000Z
DTSTART:20201124T180000
DTEND:20201124T180059
SUMMARY:Delaney Davidson Live
LOCATION:Ponsonby Social Club, Auckland
URL:http://www.undertheradar.co.nz/gig/72687/gig.utr
END:VEVENT
END:VCALENDAR

