BEGIN:VCALENDAR
PRODID:-//www.undertheradar.co.nz//NONSGML Undertheradar//EN
VERSION:2.0
BEGIN:VEVENT
DESCRIPTION:David Eggleton, Otis Mace Band, Racheal Naomi - Room 1, Auckland
UID:1190175379-73123@undertheradar.co.nz
DTSTAMP:20201218T193000Z
DTSTART:20201218T193000
DTEND:20201218T193059
SUMMARY:David Eggleton, Otis Mace Band, Racheal Naomi
LOCATION:Room 1, Auckland
URL:http://www.undertheradar.co.nz/gig/73123/gig.utr
END:VEVENT
END:VCALENDAR

