BEGIN:VCALENDAR
PRODID:-//www.undertheradar.co.nz//NONSGML Undertheradar//EN
VERSION:2.0
BEGIN:VEVENT
DESCRIPTION:Gitbox Rebellion - The Civic Theatre, Auckland
UID:1190175379-73163@undertheradar.co.nz
DTSTAMP:20210314T160000Z
DTSTART:20210314T160000
DTEND:20210314T160059
SUMMARY:Gitbox Rebellion
LOCATION:The Civic Theatre, Auckland
URL:http://www.undertheradar.co.nz/gig/73163/gig.utr
END:VEVENT
END:VCALENDAR

