BEGIN:VCALENDAR
PRODID:-//www.undertheradar.co.nz//NONSGML Undertheradar//EN
VERSION:2.0
BEGIN:VEVENT
DESCRIPTION:Island Time On Motutapu - Home Bay, Motutapu Island, Auckland
UID:1190175379-73187@undertheradar.co.nz
DTSTAMP:20210227T103000Z
DTSTART:20210227T103000
DTEND:20210227T103059
SUMMARY:Island Time On Motutapu
LOCATION:Home Bay, Motutapu Island, Auckland
URL:http://www.undertheradar.co.nz/gig/73187/gig.utr
END:VEVENT
END:VCALENDAR

