BEGIN:VCALENDAR
PRODID:-//www.undertheradar.co.nz//NONSGML Undertheradar//EN
VERSION:2.0
BEGIN:VEVENT
DESCRIPTION:‘Not As Simple As It Sounds’ - Audio Foundation, Auckland
UID:1190175379-73639@undertheradar.co.nz
DTSTAMP:20210210T120000Z
DTSTART:20210210T120000
DTEND:20210210T120059
SUMMARY:‘Not As Simple As It Sounds’
LOCATION:Audio Foundation, Auckland
URL:http://www.undertheradar.co.nz/gig/73639/gig.utr
END:VEVENT
END:VCALENDAR

