BEGIN:VCALENDAR
PRODID:-//www.undertheradar.co.nz//NONSGML Undertheradar//EN
VERSION:2.0
BEGIN:VEVENT
DESCRIPTION:Dylan C, 6 Hour Set Feat. Ghost Soundsystem - Neck of the Woods, Auckland
UID:1190175379-73667@undertheradar.co.nz
DTSTAMP:20210123T220000Z
DTSTART:20210123T220000
DTEND:20210123T220059
SUMMARY:Dylan C, 6 Hour Set Feat. Ghost Soundsystem
LOCATION:Neck of the Woods, Auckland
URL:http://www.undertheradar.co.nz/gig/73667/gig.utr
END:VEVENT
END:VCALENDAR

