BEGIN:VCALENDAR
PRODID:-//www.undertheradar.co.nz//NONSGML Undertheradar//EN
VERSION:2.0
BEGIN:VEVENT
DESCRIPTION:Ex Partner + Grecco Romank : Mental Stealth Tour - Grey Lynn Library Hall, Auckland
UID:1190175379-73675@undertheradar.co.nz
DTSTAMP:20210205T200000Z
DTSTART:20210205T200000
DTEND:20210205T200059
SUMMARY:Ex Partner + Grecco Romank : Mental Stealth Tour
LOCATION:Grey Lynn Library Hall, Auckland
URL:http://www.undertheradar.co.nz/gig/73675/gig.utr
END:VEVENT
END:VCALENDAR

