BEGIN:VCALENDAR
PRODID:-//www.undertheradar.co.nz//NONSGML Undertheradar//EN
VERSION:2.0
BEGIN:VEVENT
DESCRIPTION:Nicegoblins_collective 2 Year Anniversary Gig/Exhibition - NiceGoblins HQ, Auckland
UID:1190175379-73880@undertheradar.co.nz
DTSTAMP:20210206T190000Z
DTSTART:20210206T190000
DTEND:20210206T190059
SUMMARY:Nicegoblins_collective 2 Year Anniversary Gig/Exhibition
LOCATION:NiceGoblins HQ, Auckland
URL:http://www.undertheradar.co.nz/gig/73880/gig.utr
END:VEVENT
END:VCALENDAR

