BEGIN:VCALENDAR
PRODID:-//www.undertheradar.co.nz//NONSGML Undertheradar//EN
VERSION:2.0
BEGIN:VEVENT
DESCRIPTION:The RVMES Lifetime Release Show w/ Big Tasty and Sam Loveridge - The PumpHouse Theatre, Auckland
UID:1190175379-73935@undertheradar.co.nz
DTSTAMP:20210319T190000Z
DTSTART:20210319T190000
DTEND:20210319T190059
SUMMARY:The RVMES Lifetime Release Show w/ Big Tasty and Sam Loveridge
LOCATION:The PumpHouse Theatre, Auckland
URL:http://www.undertheradar.co.nz/gig/73935/gig.utr
END:VEVENT
END:VCALENDAR

