BEGIN:VCALENDAR
PRODID:-//www.undertheradar.co.nz//NONSGML Undertheradar//EN
VERSION:2.0
BEGIN:VEVENT
DESCRIPTION:Good Habits Uk Alt-folk At The Devonport Folk Club - The Bunker, Auckland
UID:1190175379-74347@undertheradar.co.nz
DTSTAMP:20210405T193000Z
DTSTART:20210405T193000
DTEND:20210405T193059
SUMMARY:Good Habits Uk Alt-folk At The Devonport Folk Club
LOCATION:The Bunker, Auckland
URL:http://www.undertheradar.co.nz/gig/74347/gig.utr
END:VEVENT
END:VCALENDAR

