BEGIN:VCALENDAR
PRODID:-//www.undertheradar.co.nz//NONSGML Undertheradar//EN
VERSION:2.0
BEGIN:VEVENT
DESCRIPTION:Cootie Cuties, Ciggie Bvtt Sluts And Nasdaq - Whammy Backroom, Auckland
UID:1190175379-74515@undertheradar.co.nz
DTSTAMP:20210401T213000Z
DTSTART:20210401T213000
DTEND:20210401T213059
SUMMARY:Cootie Cuties, Ciggie Bvtt Sluts And Nasdaq
LOCATION:Whammy Backroom, Auckland
URL:http://www.undertheradar.co.nz/gig/74515/gig.utr
END:VEVENT
END:VCALENDAR

