BEGIN:VCALENDAR
PRODID:-//www.undertheradar.co.nz//NONSGML Undertheradar//EN
VERSION:2.0
BEGIN:VEVENT
DESCRIPTION:Motte And Warm Regards - Space Place at Carter Observatory, Wellington
UID:1190175379-74839@undertheradar.co.nz
DTSTAMP:20210530T200000Z
DTSTART:20210530T200000
DTEND:20210530T200059
SUMMARY:Motte And Warm Regards
LOCATION:Space Place at Carter Observatory, Wellington
URL:http://www.undertheradar.co.nz/gig/74839/gig.utr
END:VEVENT
END:VCALENDAR

