BEGIN:VCALENDAR
PRODID:-//www.undertheradar.co.nz//NONSGML Undertheradar//EN
VERSION:2.0
BEGIN:VEVENT
DESCRIPTION:WJC Emerging Artist Series - Lovebite, Wellington
UID:1190175379-75068@undertheradar.co.nz
DTSTAMP:20210527T183000Z
DTSTART:20210527T183000
DTEND:20210527T183059
SUMMARY:WJC Emerging Artist Series
LOCATION:Lovebite, Wellington
URL:http://www.undertheradar.co.nz/gig/75068/gig.utr
END:VEVENT
END:VCALENDAR

