BEGIN:VCALENDAR
PRODID:-//www.undertheradar.co.nz//NONSGML Undertheradar//EN
VERSION:2.0
BEGIN:VEVENT
DESCRIPTION:An Evening of Americana - Pah Homestead, Auckland
UID:1190175379-75243@undertheradar.co.nz
DTSTAMP:20210620T170000Z
DTSTART:20210620T170000
DTEND:20210620T170059
SUMMARY:An Evening of Americana
LOCATION:Pah Homestead, Auckland
URL:http://www.undertheradar.co.nz/gig/75243/gig.utr
END:VEVENT
END:VCALENDAR

