BEGIN:VCALENDAR
PRODID:-//www.undertheradar.co.nz//NONSGML Undertheradar//EN
VERSION:2.0
BEGIN:VEVENT
DESCRIPTION:Hush Hush. - Whammy Backroom, Auckland
UID:1190175379-75458@undertheradar.co.nz
DTSTAMP:20210620T210000Z
DTSTART:20210620T210000
DTEND:20210620T210059
SUMMARY:Hush Hush.
LOCATION:Whammy Backroom, Auckland
URL:http://www.undertheradar.co.nz/gig/75458/gig.utr
END:VEVENT
END:VCALENDAR

