BEGIN:VCALENDAR
PRODID:-//www.undertheradar.co.nz//NONSGML Undertheradar//EN
VERSION:2.0
BEGIN:VEVENT
DESCRIPTION:Video Nasty + The Ideas + Late To Chelsea - UFO, Auckland
UID:1190175379-75600@undertheradar.co.nz
DTSTAMP:20210611T190000Z
DTSTART:20210611T190000
DTEND:20210611T190059
SUMMARY:Video Nasty + The Ideas + Late To Chelsea
LOCATION:UFO, Auckland
URL:http://www.undertheradar.co.nz/gig/75600/gig.utr
END:VEVENT
END:VCALENDAR

