BEGIN:VCALENDAR
PRODID:-//www.undertheradar.co.nz//NONSGML Undertheradar//EN
VERSION:2.0
BEGIN:VEVENT
DESCRIPTION:Louisa Nicklin - Album Release Tour - Whammy Bar, Auckland
UID:1190175379-75646@undertheradar.co.nz
DTSTAMP:20210723T200000Z
DTSTART:20210723T200000
DTEND:20210723T200059
SUMMARY:Louisa Nicklin - Album Release Tour
LOCATION:Whammy Bar, Auckland
URL:http://www.undertheradar.co.nz/gig/75646/gig.utr
END:VEVENT
END:VCALENDAR

