BEGIN:VCALENDAR
PRODID:-//www.undertheradar.co.nz//NONSGML Undertheradar//EN
VERSION:2.0
BEGIN:VEVENT
DESCRIPTION:Lawrence Arabia Does Chant Darling - Dive, Dunedin
UID:1190175379-75743@undertheradar.co.nz
DTSTAMP:20220116T203000Z
DTSTART:20220116T203000
DTEND:20220116T203059
SUMMARY:Lawrence Arabia Does Chant Darling
LOCATION:Dive, Dunedin
URL:http://www.undertheradar.co.nz/gig/75743/gig.utr
END:VEVENT
END:VCALENDAR

