BEGIN:VCALENDAR
PRODID:-//www.undertheradar.co.nz//NONSGML Undertheradar//EN
VERSION:2.0
BEGIN:VEVENT
DESCRIPTION:Trioglodyte w/ Warren Maxwell, Karen Hu and David Feauai-Afaese - The Wine Cellar, Auckland
UID:1190175379-75898@undertheradar.co.nz
DTSTAMP:20210701T194500Z
DTSTART:20210701T194500
DTEND:20210701T194559
SUMMARY:Trioglodyte w/ Warren Maxwell, Karen Hu and David Feauai-Afaese
LOCATION:The Wine Cellar, Auckland
URL:http://www.undertheradar.co.nz/gig/75898/gig.utr
END:VEVENT
END:VCALENDAR

