BEGIN:VCALENDAR
PRODID:-//www.undertheradar.co.nz//NONSGML Undertheradar//EN
VERSION:2.0
BEGIN:VEVENT
DESCRIPTION:Tiny Ruins - Whammy Bar, Auckland
UID:1190175379-75951@undertheradar.co.nz
DTSTAMP:20210728T190000Z
DTSTART:20210728T190000
DTEND:20210728T190059
SUMMARY:Tiny Ruins
LOCATION:Whammy Bar, Auckland
URL:http://www.undertheradar.co.nz/gig/75951/gig.utr
END:VEVENT
END:VCALENDAR

