BEGIN:VCALENDAR
PRODID:-//www.undertheradar.co.nz//NONSGML Undertheradar//EN
VERSION:2.0
BEGIN:VEVENT
DESCRIPTION:Inside Out Open Mic - Hypatia, Auckland
UID:1190175379-76124@undertheradar.co.nz
DTSTAMP:20210714T190000Z
DTSTART:20210714T190000
DTEND:20210714T190059
SUMMARY:Inside Out Open Mic
LOCATION:Hypatia, Auckland
URL:http://www.undertheradar.co.nz/gig/76124/gig.utr
END:VEVENT
END:VCALENDAR

