BEGIN:VCALENDAR
PRODID:-//www.undertheradar.co.nz//NONSGML Undertheradar//EN
VERSION:2.0
BEGIN:VEVENT
DESCRIPTION:Te Korakora On Takutai - Takutai Square, Auckland
UID:1190175379-76133@undertheradar.co.nz
DTSTAMP:20210709T170000Z
DTSTART:20210709T170000
DTEND:20210709T170059
SUMMARY:Te Korakora On Takutai
LOCATION:Takutai Square, Auckland
URL:http://www.undertheradar.co.nz/gig/76133/gig.utr
END:VEVENT
END:VCALENDAR

